BEGIN:VCALENDAR
VERSION:2.0
CREATED:20260407T104734Z
PRODID:-//Datavault AI Inc./Equisolve Calendar v1.0//EN
METHOD:PUBLISH
BEGIN:VEVENT
UID:a8305c1e57d817fbad64faad9ffc1e95
DTSTAMP:20260423T101137Z
DTSTART:20260521T000000
DTEND:20260522T000000
SUMMARY:AssetRush × Zurich 2026
DESCRIPTION:AssetRush × Zurich 2026
Date: May 21\, 2026
END:VEVENT
END:VCALENDAR
